BEGIN:VCALENDAR
VERSION:2.0
PRODID:-//Archie Bray - ECPv6.15.20//NONSGML v1.0//EN
CALSCALE:GREGORIAN
METHOD:PUBLISH
X-ORIGINAL-URL:https://archiebray.org
X-WR-CALDESC:Events for Archie Bray
REFRESH-INTERVAL;VALUE=DURATION:PT1H
X-Robots-Tag:noindex
X-PUBLISHED-TTL:PT1H
BEGIN:VTIMEZONE
TZID:America/Los_Angeles
BEGIN:DAYLIGHT
TZOFFSETFROM:-0800
TZOFFSETTO:-0700
TZNAME:PDT
DTSTART:20240310T100000
END:DAYLIGHT
BEGIN:STANDARD
TZOFFSETFROM:-0700
TZOFFSETTO:-0800
TZNAME:PST
DTSTART:20241103T090000
END:STANDARD
BEGIN:DAYLIGHT
TZOFFSETFROM:-0800
TZOFFSETTO:-0700
TZNAME:PDT
DTSTART:20250309T100000
END:DAYLIGHT
BEGIN:STANDARD
TZOFFSETFROM:-0700
TZOFFSETTO:-0800
TZNAME:PST
DTSTART:20251102T090000
END:STANDARD
BEGIN:DAYLIGHT
TZOFFSETFROM:-0800
TZOFFSETTO:-0700
TZNAME:PDT
DTSTART:20260308T100000
END:DAYLIGHT
BEGIN:STANDARD
TZOFFSETFROM:-0700
TZOFFSETTO:-0800
TZNAME:PST
DTSTART:20261101T090000
END:STANDARD
END:VTIMEZONE
BEGIN:VTIMEZONE
TZID:America/Denver
BEGIN:DAYLIGHT
TZOFFSETFROM:-0700
TZOFFSETTO:-0600
TZNAME:MDT
DTSTART:20240310T090000
END:DAYLIGHT
BEGIN:STANDARD
TZOFFSETFROM:-0600
TZOFFSETTO:-0700
TZNAME:MST
DTSTART:20241103T080000
END:STANDARD
BEGIN:DAYLIGHT
TZOFFSETFROM:-0700
TZOFFSETTO:-0600
TZNAME:MDT
DTSTART:20250309T090000
END:DAYLIGHT
BEGIN:STANDARD
TZOFFSETFROM:-0600
TZOFFSETTO:-0700
TZNAME:MST
DTSTART:20251102T080000
END:STANDARD
BEGIN:DAYLIGHT
TZOFFSETFROM:-0700
TZOFFSETTO:-0600
TZNAME:MDT
DTSTART:20260308T090000
END:DAYLIGHT
BEGIN:STANDARD
TZOFFSETFROM:-0600
TZOFFSETTO:-0700
TZNAME:MST
DTSTART:20261101T080000
END:STANDARD
END:VTIMEZONE
BEGIN:VTIMEZONE
TZID:America/Denver
BEGIN:DAYLIGHT
TZOFFSETFROM:-0700
TZOFFSETTO:-0600
TZNAME:MDT
DTSTART:20220313T090000
END:DAYLIGHT
BEGIN:STANDARD
TZOFFSETFROM:-0600
TZOFFSETTO:-0700
TZNAME:MST
DTSTART:20221106T080000
END:STANDARD
BEGIN:DAYLIGHT
TZOFFSETFROM:-0700
TZOFFSETTO:-0600
TZNAME:MDT
DTSTART:20230312T090000
END:DAYLIGHT
BEGIN:STANDARD
TZOFFSETFROM:-0600
TZOFFSETTO:-0700
TZNAME:MST
DTSTART:20231105T080000
END:STANDARD
BEGIN:DAYLIGHT
TZOFFSETFROM:-0700
TZOFFSETTO:-0600
TZNAME:MDT
DTSTART:20240310T090000
END:DAYLIGHT
BEGIN:STANDARD
TZOFFSETFROM:-0600
TZOFFSETTO:-0700
TZNAME:MST
DTSTART:20241103T080000
END:STANDARD
BEGIN:DAYLIGHT
TZOFFSETFROM:-0700
TZOFFSETTO:-0600
TZNAME:MDT
DTSTART:20250309T090000
END:DAYLIGHT
BEGIN:STANDARD
TZOFFSETFROM:-0600
TZOFFSETTO:-0700
TZNAME:MST
DTSTART:20251102T080000
END:STANDARD
END:VTIMEZONE
BEGIN:VEVENT
DTSTART;TZID=America/Los_Angeles:20251113T180000
DTEND;TZID=America/Los_Angeles:20251113T200000
DTSTAMP:20260421T072658
CREATED:20250128T174616Z
LAST-MODIFIED:20251023T153522Z
UID:10000599-1763056800-1763064000@archiebray.org
SUMMARY:The Bray Holiday Show Opening
DESCRIPTION:Dive into holiday shopping\, November 13th at 6:00 pm\, for The Bray’s Annual Holiday Show at the Main Gallery and Visitor Center! Shop artwork from current and former Bray artists to find the perfect one-of-a-kind gift for anyone on your list: maybe a handmade mug\, a comforting soup bowl\, that perfect vase\, ceramic jewelry\, unique ornaments\, sculptures\, and more! It’s not the holidays without The Bray! \n\n\n\nThe sale will last into December\, with select pieces available online\, beginning November 21.
URL:https://archiebray.org/event/the-bray-holiday-sale-opening/
LOCATION:Archie Bray Foundation\, 2915 Country Club Avenue\, Helena\, 59602
CATEGORIES:Community,Sales Gallery Events
ATTACH;FMTTYPE=image/jpeg:https://archiebray.org/wp-content/uploads/2025/01/2025-Holiday-Show-Calendar-Thumbnail-scaled.jpg
END:VEVENT
BEGIN:VEVENT
DTSTART;TZID=America/Denver:20250717T180000
DTEND;TZID=America/Denver:20250717T220000
DTSTAMP:20260421T072658
CREATED:20250225T164733Z
LAST-MODIFIED:20250710T191725Z
UID:10000615-1752775200-1752789600@archiebray.org
SUMMARY:The Bray Garden Party
DESCRIPTION:Come help us cap off our auction with our Annual Garden Party on July 17th! Join us for an evening out at The Bray in your grooviest floral ensembles and enjoy a night of mingling\, dancing\, and celebrating the arts. Catch one last chance to peruse our lovely auction items and participate in the closing of the HERITAGE and MAIN sections of our silent auction. With wine hand chosen by The Hawthorn\, beer from Blackfoot River Brewing Company and food by Chili O’Brien’s\, it is sure to be an unforgettable evening! \n\n\n\nPurchase your ticket and register to bid today!
URL:https://archiebray.org/event/archies-avant-garden-party/
LOCATION:Archie Bray Foundation\, 2915 Country Club Avenue\, Helena\, 59602
CATEGORIES:Auctions,Community,Exhibitions,Fundraising Events,Sales Gallery Events
ATTACH;FMTTYPE=image/jpeg:https://archiebray.org/wp-content/uploads/2025/02/ArchiesAvantGardenParty2024-70-scaled-e1740505632406.jpg
END:VEVENT
BEGIN:VEVENT
DTSTART;TZID=America/Los_Angeles:20250510T100000
DTEND;TZID=America/Los_Angeles:20250510T150000
DTSTAMP:20260421T072658
CREATED:20250115T182522Z
LAST-MODIFIED:20250422T194154Z
UID:10000593-1746871200-1746889200@archiebray.org
SUMMARY:Pots & Plants Market
DESCRIPTION:The much-loved Pots & Plants Market is back on May 10! Find the perfect Mother’s Day gift or indulge in a little beauty for yourself. Shop a variety of planters bursting with vibrant flowers\, unique vases\, and much more!
URL:https://archiebray.org/event/pots-plants-sale-2/
LOCATION:Archie Bray Foundation\, 2915 Country Club Avenue\, Helena\, 59602
CATEGORIES:Community,Sales Gallery Events
ATTACH;FMTTYPE=image/jpeg:https://archiebray.org/wp-content/uploads/2025/01/pots-and-plants.jpg
END:VEVENT
BEGIN:VEVENT
DTSTART;TZID=America/Denver:20241108T170000
DTEND;TZID=America/Denver:20241108T200000
DTSTAMP:20260421T072658
CREATED:20240129T222518Z
LAST-MODIFIED:20240129T222608Z
UID:10000572-1731085200-1731096000@archiebray.org
SUMMARY:Fall Artwalk Bray Gallery: Downtown
DESCRIPTION:Join us to peruse one of a kind artwork\, learn about the Bray\, mingle and enjoy the company of fellow community members!
URL:https://archiebray.org/event/fall-artwalk-bray-gallery-downtown/
CATEGORIES:Community,Sales Gallery Events
END:VEVENT
BEGIN:VEVENT
DTSTART;TZID=America/Denver:20241107T000000
DTEND;TZID=America/Denver:20241223T235959
DTSTAMP:20260421T072658
CREATED:20231206T185342Z
LAST-MODIFIED:20240206T182216Z
UID:10000564-1730937600-1734998399@archiebray.org
SUMMARY:Holiday Show
DESCRIPTION:Opening Celebration\, Thursday\, November 7\, 6-8 pm \n\n\n\nJoin us for the Holiday Show at The Bray! Shop artwork from current and former resident artists to find the perfect one-of-a-kind gift for anyone on your list. Shop local—consider these unique gift ideas; a handmade mug for hot morning drinks\, a comforting soup bowl\, a distinctive pitcher for the table\, jewelry\, a stunning sculpture\, a stand-out vase\, pleasant cocktail cups\, uncommon ornaments and find more in-person at the gallery!  \n\n\n\nShop online beginning December 15! \n\n\n\nBecome a member now to receive a special invitation and benefits during the Holiday Sale. \n\n\n\nGallery Hours: Tues-Fri 11 am-5 pm and Sat 12-4 pm
URL:https://archiebray.org/event/holiday-sale-2/
CATEGORIES:Sales Gallery Events
ATTACH;FMTTYPE=image/jpeg:https://archiebray.org/wp-content/uploads/2022/11/snow-at-the-bray-scaled.jpg
END:VEVENT
BEGIN:VEVENT
DTSTART;TZID=America/Denver:20241104T080000
DTEND;TZID=America/Denver:20241107T170000
DTSTAMP:20260421T072658
CREATED:20231206T185129Z
LAST-MODIFIED:20231206T185130Z
UID:10000563-1730707200-1730998800@archiebray.org
SUMMARY:Bray Gallery Closed for Holiday Sale Setup
DESCRIPTION:
URL:https://archiebray.org/event/bray-gallery-closed-for-holiday-sale-setup/
CATEGORIES:Hours and Holidays,Sales Gallery Events
END:VEVENT
BEGIN:VEVENT
DTSTART;TZID=America/Denver:20240511T100000
DTEND;TZID=America/Denver:20240511T150000
DTSTAMP:20260421T072658
CREATED:20231205T230005Z
LAST-MODIFIED:20240429T155633Z
UID:10000548-1715421600-1715439600@archiebray.org
SUMMARY:Pots & Plants Market
DESCRIPTION:Our beloved Pots & Plants Market is back! Get creative with your Mother’s Day gift\, or treat yourself to some beauty! Shop for planters filled with gorgeous flowers\, one-of-a-kind vases\, and more.
URL:https://archiebray.org/event/mothers-day-pots-plants-sale/
CATEGORIES:Community,Sales Gallery Events
ATTACH;FMTTYPE=image/png:https://archiebray.org/wp-content/uploads/2023/12/archie_potsplants_9x6_final_1080x1080.png
END:VEVENT
BEGIN:VEVENT
DTSTART;TZID=America/Denver:20240510T170000
DTEND;TZID=America/Denver:20240510T200000
DTSTAMP:20260421T072658
CREATED:20240129T221711Z
LAST-MODIFIED:20240501T160640Z
UID:10000570-1715360400-1715371200@archiebray.org
SUMMARY:Spring Artwalk Bray Gallery: Downtown
DESCRIPTION:Join us for the Artwalk!
URL:https://archiebray.org/event/spring-artwalk-bray-gallery-downtown/
CATEGORIES:Community,Sales Gallery Events
END:VEVENT
BEGIN:VEVENT
DTSTART;TZID=America/Denver:20240506T080000
DTEND;TZID=America/Denver:20240510T170000
DTSTAMP:20260421T072658
CREATED:20240129T221941Z
LAST-MODIFIED:20240429T155840Z
UID:10000571-1714982400-1715360400@archiebray.org
SUMMARY:Main Bray Gallery Closed for Pots & Plants Set Up
DESCRIPTION:In advance of the highly anticipated Pots & Plants Market\, the Bray Gallery and Visitor Center will be closed. Bray Gallery: Downtown will be open.
URL:https://archiebray.org/event/gallery-closed-for-pots-plants-set-up/
CATEGORIES:Hours and Holidays,Sales Gallery Events
END:VEVENT
BEGIN:VEVENT
DTSTART;TZID=America/Denver:20240425T100000
DTEND;TZID=America/Denver:20240425T110000
DTSTAMP:20260421T072658
CREATED:20240126T181214Z
LAST-MODIFIED:20240418T154604Z
UID:10000569-1714039200-1714042800@archiebray.org
SUMMARY:Ribbon Cutting for Bray Gallery: Downtown
DESCRIPTION:Join us to celebrate the opening of our newest gallery space in beautiful Downtown Helena\, 10:00 am Thursday\, April 25\, 434 N. Last Chance Gulch
URL:https://archiebray.org/event/grand-opening-of-the-bray-gallery-downtown/
CATEGORIES:Sales Gallery Events
END:VEVENT
BEGIN:VEVENT
DTSTART;TZID=America/Denver:20240307T000000
DTEND;TZID=America/Denver:20240503T235959
DTSTAMP:20260421T072658
CREATED:20231201T180202Z
LAST-MODIFIED:20240502T192816Z
UID:10000534-1709769600-1714780799@archiebray.org
SUMMARY:2024 Fellowship Artist Exhibition
DESCRIPTION:Opening Reception: March 7\, 6-8 pm at the Bray North Gallery \n\n\n\nFeaturing: Austin Coudriet\, Austin Riddle\, Colby Charpentier\, Janina Myronowa\, Laura Dirksen\, Maura Wright\, Megan Thomas\, Sarah Alsaied\, Shea Burke\, Simphiwe Mbunyuza \n\n\n\nJoin us to celebrate our long-term residents!  \n\n\n\nJoin us to celebrate exciting artwork by 10 Bray long term fellowship recipients! Come out to the Bray North Gallery Thursday\, March 7 from 6-8 pm to discover their diverse creations\, mingle with the artists\, and let the magic of clay ignite your imagination! \n\n\n\nSupport comes from the Bray Fellowship\, Etchart-Satre Fellowship\, Frazza Fellowship\, Joan Lincoln Fellowship\, Lilian Fellowship\, Matsutani Fellowship\, Quigley-Hiltner Fellowship\, Speyer Fellowship\, and Taunt Fellowship. Each fellowship awards $7\,500 to a long term resident artist; additional funds are provided to cover the Bray’s studio costs for each resident. \n\n\n\nThank you to our sponsor\, MOSAIC. \n\n\n\n\n\n\n\n\n\n\n\n\n\n			\n				\n			\n		Austin Coudriet\, Shea Burke\, Austin Riddle\n\n\n\n\n			\n				\n			\n		Austin Riddle\n\n\n\n\n			\n				\n			\n		Janina Myronowa\n\n\n\n\n			\n				\n			\n		Megan Thomas\n\n\n\n\n			\n				\n			\n		Maura Wright\n\n\n\n\n			\n				\n			\n		Laura Dirksen\n\n\n\n\n			\n				\n			\n		Simphiwe Mbunyuza\n\n\n\n\n			\n				\n			\n		Sarah Alsaied\n\n\n\n\n			\n				\n			\n		Colby Charpentier\n\n\n\n\n			\n				\n			\n		Shea Burke\n\n\n\n\n			\n				\n			\n		Janina Myronowa\, Megan Thomas\, Laura Dirksen\n\n\n\n\n			\n				\n			\n		Austin Coudriet\n\n\n\n\n			\n				\n			\n		Sarah Alsaied \n\n\n\n\n			\n				\n			\n		Laura Dirksen\n\n\n\n\n			\n				\n			\n		Austin Coudriet\, Janina Myronowa\, Maura Wright\, Sarah Alsaied
URL:https://archiebray.org/event/fellowship-artists-exhibition-3/
LOCATION:Bray Gallery: North\, 2915 Country Club Ave\, Helena\, Montana\, 59602\, United States
CATEGORIES:Exhibitions,Sales Gallery Events
ATTACH;FMTTYPE=image/jpeg:https://archiebray.org/wp-content/uploads/2023/12/2024-Fellowship-Exhibition-Postcard-FRONT.jpg
END:VEVENT
BEGIN:VEVENT
DTSTART;TZID=America/Denver:20240223T090000
DTEND;TZID=America/Denver:20240224T170000
DTSTAMP:20260421T072658
CREATED:20231201T165512Z
LAST-MODIFIED:20231201T165627Z
UID:10000531-1708678800-1708794000@archiebray.org
SUMMARY:Alumni & Staff Throwing and Making Day - Pots & Plants Edition
DESCRIPTION:Calling former resident artists! Join us in the Frances Senska Center for Education & Engagement to make planters and vases for the Pots & Plants Sale at the Bray. Gather in community with fellow residents (current and past) and staff for a day or two of fun!
URL:https://archiebray.org/event/alumni-staff-throwing-day-pots-plants-edition/
CATEGORIES:Community,Sales Gallery Events
ATTACH;FMTTYPE=image/jpeg:https://archiebray.org/wp-content/uploads/2023/12/pots-plants-in-ed-scaled.jpg
END:VEVENT
BEGIN:VEVENT
DTSTART;TZID=America/Denver:20231109T000000
DTEND;TZID=America/Denver:20231222T235959
DTSTAMP:20260421T072658
CREATED:20221208T232621Z
LAST-MODIFIED:20231206T185508Z
UID:10000470-1699488000-1703289599@archiebray.org
SUMMARY:Holiday Sale
DESCRIPTION:Join us for the Holiday Sale at The Bray! Shop artwork from current and former resident artists to find the perfect one-of-a-kind gift for anyone on your list. Shop local—consider these unique gift ideas; a handmade mug for hot morning drinks\, a comforting soup bowl\, a distinctive pitcher for the table\, jewelry\, a stunning sculpture\, a stand-out vase\, pleasant cocktail cups\, uncommon ornaments and find more in-person at the gallery!  \n\n\n\nShop online  \n\n\n\nBecome a member now to receive a special invitation and benefits during the Holiday Sale. \n\n\n\nGallery Hours: Tues-Fri 11 am-5 pm and Sat 12-4 pm
URL:https://archiebray.org/event/holiday-sale/
CATEGORIES:Sales Gallery Events
ATTACH;FMTTYPE=image/jpeg:https://archiebray.org/wp-content/uploads/2022/11/snow-at-the-bray-scaled.jpg
END:VEVENT
END:VCALENDAR