BEGIN:VCALENDAR
VERSION:2.0
PRODID:-//Archie Bray - ECPv6.15.20//NONSGML v1.0//EN
CALSCALE:GREGORIAN
METHOD:PUBLISH
X-WR-CALNAME:Archie Bray
X-ORIGINAL-URL:https://archiebray.org
X-WR-CALDESC:Events for Archie Bray
REFRESH-INTERVAL;VALUE=DURATION:PT1H
X-Robots-Tag:noindex
X-PUBLISHED-TTL:PT1H
BEGIN:VTIMEZONE
TZID:America/Denver
BEGIN:DAYLIGHT
TZOFFSETFROM:-0700
TZOFFSETTO:-0600
TZNAME:MDT
DTSTART:20220313T090000
END:DAYLIGHT
BEGIN:STANDARD
TZOFFSETFROM:-0600
TZOFFSETTO:-0700
TZNAME:MST
DTSTART:20221106T080000
END:STANDARD
BEGIN:DAYLIGHT
TZOFFSETFROM:-0700
TZOFFSETTO:-0600
TZNAME:MDT
DTSTART:20230312T090000
END:DAYLIGHT
BEGIN:STANDARD
TZOFFSETFROM:-0600
TZOFFSETTO:-0700
TZNAME:MST
DTSTART:20231105T080000
END:STANDARD
BEGIN:DAYLIGHT
TZOFFSETFROM:-0700
TZOFFSETTO:-0600
TZNAME:MDT
DTSTART:20240310T090000
END:DAYLIGHT
BEGIN:STANDARD
TZOFFSETFROM:-0600
TZOFFSETTO:-0700
TZNAME:MST
DTSTART:20241103T080000
END:STANDARD
END:VTIMEZONE
BEGIN:VEVENT
DTSTART;TZID=America/Denver:20231009T000000
DTEND;TZID=America/Denver:20231009T235959
DTSTAMP:20260420T094522
CREATED:20221208T232254Z
LAST-MODIFIED:20221208T232255Z
UID:10000469-1696809600-1696895999@archiebray.org
SUMMARY:Bray Offices\, Galleries and Clay Business closed for Indigenous People's Day
DESCRIPTION:
URL:https://archiebray.org/event/bray-offices-galleries-and-clay-business-closed-for-indigenous-peoples-day-2/
CATEGORIES:Hours and Holidays
END:VEVENT
BEGIN:VEVENT
DTSTART;TZID=America/Denver:20231012T183000
DTEND;TZID=America/Denver:20231012T200000
DTSTAMP:20260420T094522
CREATED:20221208T225558Z
LAST-MODIFIED:20231010T154754Z
UID:10000462-1697135400-1697140800@archiebray.org
SUMMARY:Artist Amplified; Timothy Gordon
DESCRIPTION:In Person or Streaming Online! \n\n\n\nJoin us October 12th at 6:30pm MST as internationally recognized art appraiser Timothy Gordon takes us on a journey of his adventures\, discoveries\, and experiences throughout his 25+ year career. From the estates of Montana artists Rudy Autio\, Frances Senska\, and Charles M. Russell to Princess Diana Spencer’s Gown Collection at Kensington Palace\, Timothy will share highlights from his careers\, while shining light on the appraisal process (and might even demonstrate the process on several of The Bray’s Permanente collection items!) this is a must not miss event.   \n\n\n\nTimothy Gordon is internationally recognized as an appraisal authority.  He has been evaluating or marketing important works of fine art\, valuables and collections for over 25 years\, having personally appraised millions of items.  An Associate Member of the International Society of Appraisers from 1998 – 2012\, he belongs to the prestigious AOA Appraisal Society. \n\n\n\nOur Artist Amplified lecture and demonstration series\, designed to allow artists and art enthusiasts to share their history\, process\, and conceptual motivations with the public through various presentation formats. \n\n\n\nIN-PERSON: Let us Know You’re Coming!  Doing so helps us prepare\, but more importantly\, helps us secure funding that makes this series possible. Thank you in advance for taking the time to register! \n\n\n\nJOIN VIRTUALLY! (Link goes live at the time of the event) \n\n\n\nWant to learn more about Sponsorship opportunities? Email education@archiebray.org
URL:https://archiebray.org/event/artist-amplified-11/
LOCATION:Frances Senska Center for Education and Engagement\, 2915 Country Club Avenue\, Helena\, 59602
CATEGORIES:Artist Amplified Series
ATTACH;FMTTYPE=image/jpeg:https://archiebray.org/wp-content/uploads/2022/12/12_Timothy-Gordon-Promo-Image_October.jpg
END:VEVENT
BEGIN:VEVENT
DTSTART;TZID=America/Denver:20231027T000000
DTEND;TZID=America/Denver:20231028T235959
DTSTAMP:20260420T094522
CREATED:20221208T224625Z
LAST-MODIFIED:20221208T224626Z
UID:10000451-1698364800-1698537599@archiebray.org
SUMMARY:Bray Board Meeting
DESCRIPTION:
URL:https://archiebray.org/event/bray-board-meeting-6/
CATEGORIES:Board Meetings
END:VEVENT
END:VCALENDAR