BEGIN:VCALENDAR
VERSION:2.0
PRODID:-//Archie Bray - ECPv6.15.20//NONSGML v1.0//EN
CALSCALE:GREGORIAN
METHOD:PUBLISH
X-WR-CALNAME:Archie Bray
X-ORIGINAL-URL:https://archiebray.org
X-WR-CALDESC:Events for Archie Bray
REFRESH-INTERVAL;VALUE=DURATION:PT1H
X-Robots-Tag:noindex
X-PUBLISHED-TTL:PT1H
BEGIN:VTIMEZONE
TZID:America/Los_Angeles
BEGIN:DAYLIGHT
TZOFFSETFROM:-0800
TZOFFSETTO:-0700
TZNAME:PDT
DTSTART:20240310T100000
END:DAYLIGHT
BEGIN:STANDARD
TZOFFSETFROM:-0700
TZOFFSETTO:-0800
TZNAME:PST
DTSTART:20241103T090000
END:STANDARD
BEGIN:DAYLIGHT
TZOFFSETFROM:-0800
TZOFFSETTO:-0700
TZNAME:PDT
DTSTART:20250309T100000
END:DAYLIGHT
BEGIN:STANDARD
TZOFFSETFROM:-0700
TZOFFSETTO:-0800
TZNAME:PST
DTSTART:20251102T090000
END:STANDARD
BEGIN:DAYLIGHT
TZOFFSETFROM:-0800
TZOFFSETTO:-0700
TZNAME:PDT
DTSTART:20260308T100000
END:DAYLIGHT
BEGIN:STANDARD
TZOFFSETFROM:-0700
TZOFFSETTO:-0800
TZNAME:PST
DTSTART:20261101T090000
END:STANDARD
END:VTIMEZONE
BEGIN:VTIMEZONE
TZID:America/Denver
BEGIN:DAYLIGHT
TZOFFSETFROM:-0700
TZOFFSETTO:-0600
TZNAME:MDT
DTSTART:20210314T090000
END:DAYLIGHT
BEGIN:STANDARD
TZOFFSETFROM:-0600
TZOFFSETTO:-0700
TZNAME:MST
DTSTART:20211107T080000
END:STANDARD
BEGIN:DAYLIGHT
TZOFFSETFROM:-0700
TZOFFSETTO:-0600
TZNAME:MDT
DTSTART:20220313T090000
END:DAYLIGHT
BEGIN:STANDARD
TZOFFSETFROM:-0600
TZOFFSETTO:-0700
TZNAME:MST
DTSTART:20221106T080000
END:STANDARD
BEGIN:DAYLIGHT
TZOFFSETFROM:-0700
TZOFFSETTO:-0600
TZNAME:MDT
DTSTART:20230312T090000
END:DAYLIGHT
BEGIN:STANDARD
TZOFFSETFROM:-0600
TZOFFSETTO:-0700
TZNAME:MST
DTSTART:20231105T080000
END:STANDARD
END:VTIMEZONE
BEGIN:VEVENT
DTSTART;TZID=America/Los_Angeles:20250606T000000
DTEND;TZID=America/Los_Angeles:20250803T235959
DTSTAMP:20260425T110751
CREATED:20250128T164743Z
LAST-MODIFIED:20250723T211828Z
UID:10000594-1749168000-1754265599@archiebray.org
SUMMARY:Back to the Future: A Collective Legacy of The Bray
DESCRIPTION:This exhibition features work by current residents at The Bray\, presented alongside selections from The Bray’s permanent collection. Each artist has selected or created a new piece in response to a work from the collection—fostering a creative dialogue between past and present. \n\n\n\nDisplayed together in paired groupings\, these works highlight the continuity of ceramic practice at The Bray while offering fresh perspectives on its rich artistic legacy. The result is a compelling conversation across generations\, celebrating innovation\, reflection\, and the evolving language of clay. \n\n\n\nThe Exhibition will be on view from June 06\, 2025 – August 03\, 2025 at The Holter in Downtown Helena. \n\n\n\nLearn more on the Holter Museum of Art’s website HERE!
URL:https://archiebray.org/event/holter-exhibition/
LOCATION:Holter Museum of Art\, 12 E Lawrence St.\, Helena\, Montana\, 59602
CATEGORIES:Exhibitions
ATTACH;FMTTYPE=image/jpeg:https://archiebray.org/wp-content/uploads/2025/01/Holter-Event-Photo.jpg
END:VEVENT
BEGIN:VEVENT
DTSTART;TZID=America/Denver:20220603T000000
DTEND;TZID=America/Denver:20220731T235959
DTSTAMP:20260425T110751
CREATED:20220302T180531Z
LAST-MODIFIED:20220818T143952Z
UID:10000388-1654214400-1659311999@archiebray.org
SUMMARY:Fellowship Artists Exhibition
DESCRIPTION:Featuring: Uriel Caspi\, Alessandro Gallo\, Yeonsoo Kim\,Yeh Rim Lee\, Candice Methe\, and Kelsie Rudolph. \n\n\n\nJoin us to celebrate our exiting long-term residents!  \n\n\n\nThis exhibition is a community collaboration between the Holter Museum of Art and The Bray\, offering a notable opportunity and venue for long-term resident artists. \n\n\n\nSupport comes from: The Etchart-Satre Fellowship\, Joan Lincoln Fellowship\, Lilian Fellowship\, Lillstreet Art Center Fellowship\, Matsutani Fellowship\, Quigley-Hiltner Fellowship\, Speyer Fellowship\, Taunt Fellowship\, Visions West Fellowship\, and Windgate Fellowships. Each fellowship awards $7\,500 to a long-term resident artist; additional funds are provided to cover The Bray’s studio costs for each resident.
URL:https://archiebray.org/event/fellowship-artists-exhibition/
LOCATION:Holter Museum of Art\, 12 E Lawrence St.\, Helena\, Montana\, 59602
CATEGORIES:Exhibitions
ATTACH;FMTTYPE=image/jpeg:https://archiebray.org/wp-content/uploads/2022/03/fellowship_PC_2022vHolterPromo_Part1-scaled.jpg
END:VEVENT
END:VCALENDAR